BEGIN:VCALENDAR
VERSION:2.0
PRODID:-//Visit Falls Church - ECPv6.15.20//NONSGML v1.0//EN
CALSCALE:GREGORIAN
METHOD:PUBLISH
X-WR-CALNAME:Visit Falls Church
X-ORIGINAL-URL:https://visitfallschurch.com
X-WR-CALDESC:Events for Visit Falls Church
REFRESH-INTERVAL;VALUE=DURATION:PT1H
X-Robots-Tag:noindex
X-PUBLISHED-TTL:PT1H
BEGIN:VTIMEZONE
TZID:America/New_York
BEGIN:DAYLIGHT
TZOFFSETFROM:-0500
TZOFFSETTO:-0400
TZNAME:EDT
DTSTART:20250309T070000
END:DAYLIGHT
BEGIN:STANDARD
TZOFFSETFROM:-0400
TZOFFSETTO:-0500
TZNAME:EST
DTSTART:20251102T060000
END:STANDARD
BEGIN:DAYLIGHT
TZOFFSETFROM:-0500
TZOFFSETTO:-0400
TZNAME:EDT
DTSTART:20260308T070000
END:DAYLIGHT
BEGIN:STANDARD
TZOFFSETFROM:-0400
TZOFFSETTO:-0500
TZNAME:EST
DTSTART:20261101T060000
END:STANDARD
BEGIN:DAYLIGHT
TZOFFSETFROM:-0500
TZOFFSETTO:-0400
TZNAME:EDT
DTSTART:20270314T070000
END:DAYLIGHT
BEGIN:STANDARD
TZOFFSETFROM:-0400
TZOFFSETTO:-0500
TZNAME:EST
DTSTART:20271107T060000
END:STANDARD
END:VTIMEZONE
BEGIN:VEVENT
DTSTART;TZID=America/New_York:20260401T080000
DTEND;TZID=America/New_York:20260430T170000
DTSTAMP:20260420T163113
CREATED:20260312T175328Z
LAST-MODIFIED:20260312T175742Z
UID:10002009-1775030400-1777568400@visitfallschurch.com
SUMMARY:City of Falls Church Fitness Challenge
DESCRIPTION:Falls Church Fitness Challenge\nThe City of Falls Church Fitness Challenge is a month-long wellness event designed to get people moving while supporting local businesses and exploring the city’s vibrant fitness community. Throughout April\, participants can complete activities on the Fitness Challenge Passport\, try free classes\, and take advantage of special offers from more than 25 local fitness and wellness businesses across the city. \nInspired by Falls Church’s recognition as the Healthiest Community in America by U.S. News & World Report\, the challenge encourages people of all ages and fitness levels to stay active\, try new workouts\, and connect with the community. \nKickoff Event: Falls Church Move\nThe Fitness Challenge kicks off with Falls Church Move\, a full-day outdoor fitness event at Modera Founders Row featuring free classes led by local studios and instructors. Participants can drop in throughout the day to try activities such as yoga\, Pilates\, barre\, cardio workouts\, and more. \nEvent Highlights\n• Free fitness classes throughout the month• Special offers from 25+ local fitness and wellness businesses• Restaurant and fitness studio partnerships• Fitness Challenge Passport with prize opportunities• Falls Church Move\, a community kickoff event with free group workouts \nWho Can Participate\nThe challenge is free and open to anyone\, including kids\, adults\, and participants of all fitness levels. \nHow to Participate\n\nDownload or pick up a Fitness Challenge Passport\nComplete activities throughout April.\nTrack your progress and earn prizes.\n\nWebsite / Registration\nLearn more and access the Fitness Challenge Passport at:VisitFallsChurch.com/FallsChurchFit \nCost\nFree to participate
URL:https://visitfallschurch.com/event/fallschurchfit/
LOCATION:City of Falls Church\, Falls Church\, Virginia\, United States
CATEGORIES:Community event,Fitness Event,Health & Wellness
ATTACH;FMTTYPE=image/png:https://visitfallschurch.com/wp-content/uploads/Falls-Church-Fitness-Challenge-2026.png
ORGANIZER;CN="City of Falls Church EDO":MAILTO:noreply@facebookmail.com
GEO:38.882334;-77.1710914
END:VEVENT
END:VCALENDAR