BEGIN:VCALENDAR
VERSION:2.0
PRODID:-//Visit Falls Church - ECPv6.15.20//NONSGML v1.0//EN
CALSCALE:GREGORIAN
METHOD:PUBLISH
X-ORIGINAL-URL:https://visitfallschurch.com
X-WR-CALDESC:Events for Visit Falls Church
REFRESH-INTERVAL;VALUE=DURATION:PT1H
X-Robots-Tag:noindex
X-PUBLISHED-TTL:PT1H
BEGIN:VTIMEZONE
TZID:America/New_York
BEGIN:DAYLIGHT
TZOFFSETFROM:-0500
TZOFFSETTO:-0400
TZNAME:EDT
DTSTART:20250309T070000
END:DAYLIGHT
BEGIN:STANDARD
TZOFFSETFROM:-0400
TZOFFSETTO:-0500
TZNAME:EST
DTSTART:20251102T060000
END:STANDARD
BEGIN:DAYLIGHT
TZOFFSETFROM:-0500
TZOFFSETTO:-0400
TZNAME:EDT
DTSTART:20260308T070000
END:DAYLIGHT
BEGIN:STANDARD
TZOFFSETFROM:-0400
TZOFFSETTO:-0500
TZNAME:EST
DTSTART:20261101T060000
END:STANDARD
BEGIN:DAYLIGHT
TZOFFSETFROM:-0500
TZOFFSETTO:-0400
TZNAME:EDT
DTSTART:20270314T070000
END:DAYLIGHT
BEGIN:STANDARD
TZOFFSETFROM:-0400
TZOFFSETTO:-0500
TZNAME:EST
DTSTART:20271107T060000
END:STANDARD
END:VTIMEZONE
BEGIN:VEVENT
DTSTART;TZID=America/New_York:20260401T000000
DTEND;TZID=America/New_York:20260409T000000
DTSTAMP:20260419T152542
CREATED:20260323T203408Z
LAST-MODIFIED:20260323T203554Z
UID:10002021-1775001600-1775692800@visitfallschurch.com
SUMMARY:NOVA Nightsky Theater Presents: Anthropology by Lauren Gunderson
DESCRIPTION:NOVA Nightsky Theater Presents: Anthropology by Lauren Gunderson. When a grieving woman builds an AI version of her late sister\, she doesn’t expect the digital twin to start keeping secrets of her own. Anthropology is a gripping\, heartfelt thriller about technology\, loss\, and what it means to be human. \nPurchase Tickets for Anthropology by Lauren Gunderson \nShowtimes:\n\n4/16 7:30 pm\n4/17 7:30 pm\n4/18 1:00 pm\n4/19 7:00 pm\n4/23 7:30 pm (pay what you can night!)\n4/24 7:30 pm\n4/25 2:00 pm\n\nLocation\nFalls Church Presbyterian Church\, 225 E Broad St\, Falls Church\, VA 22046\, USA
URL:https://visitfallschurch.com/event/nova-nightsky-theater-presents-anthropology-by-lauren-gunderson/
LOCATION:Falls Church Presbyterian Church\, 225 E Broad St\, Falls Church\, VA\, 22046
CATEGORIES:Community event,Theatre Performance
ATTACH;FMTTYPE=image/png:https://visitfallschurch.com/wp-content/uploads/NNS-FC.png
ORGANIZER;CN="NOVA Nightsky Theater":MAILTO:novanightskytheater@gmail.com
GEO:38.8807825;-77.1676691
X-APPLE-STRUCTURED-LOCATION;VALUE=URI;X-ADDRESS=Falls Church Presbyterian Church 225 E Broad St Falls Church VA 22046;X-APPLE-RADIUS=500;X-TITLE=225 E Broad St:geo:-77.1676691,38.8807825
END:VEVENT
BEGIN:VEVENT
DTSTART;TZID=America/New_York:20260401T080000
DTEND;TZID=America/New_York:20260430T170000
DTSTAMP:20260419T152542
CREATED:20260312T175328Z
LAST-MODIFIED:20260312T175742Z
UID:10002009-1775030400-1777568400@visitfallschurch.com
SUMMARY:City of Falls Church Fitness Challenge
DESCRIPTION:Falls Church Fitness Challenge\nThe City of Falls Church Fitness Challenge is a month-long wellness event designed to get people moving while supporting local businesses and exploring the city’s vibrant fitness community. Throughout April\, participants can complete activities on the Fitness Challenge Passport\, try free classes\, and take advantage of special offers from more than 25 local fitness and wellness businesses across the city. \nInspired by Falls Church’s recognition as the Healthiest Community in America by U.S. News & World Report\, the challenge encourages people of all ages and fitness levels to stay active\, try new workouts\, and connect with the community. \nKickoff Event: Falls Church Move\nThe Fitness Challenge kicks off with Falls Church Move\, a full-day outdoor fitness event at Modera Founders Row featuring free classes led by local studios and instructors. Participants can drop in throughout the day to try activities such as yoga\, Pilates\, barre\, cardio workouts\, and more. \nEvent Highlights\n• Free fitness classes throughout the month• Special offers from 25+ local fitness and wellness businesses• Restaurant and fitness studio partnerships• Fitness Challenge Passport with prize opportunities• Falls Church Move\, a community kickoff event with free group workouts \nWho Can Participate\nThe challenge is free and open to anyone\, including kids\, adults\, and participants of all fitness levels. \nHow to Participate\n\nDownload or pick up a Fitness Challenge Passport\nComplete activities throughout April.\nTrack your progress and earn prizes.\n\nWebsite / Registration\nLearn more and access the Fitness Challenge Passport at:VisitFallsChurch.com/FallsChurchFit \nCost\nFree to participate
URL:https://visitfallschurch.com/event/fallschurchfit/
LOCATION:City of Falls Church\, Falls Church\, Virginia\, United States
CATEGORIES:Community event,Fitness Event,Health & Wellness
ATTACH;FMTTYPE=image/png:https://visitfallschurch.com/wp-content/uploads/Falls-Church-Fitness-Challenge-2026.png
ORGANIZER;CN="City of Falls Church EDO":MAILTO:noreply@facebookmail.com
GEO:38.882334;-77.1710914
END:VEVENT
BEGIN:VEVENT
DTSTART;TZID=America/New_York:20260411T080000
DTEND;TZID=America/New_York:20260411T120000
DTSTAMP:20260419T152542
CREATED:20250505T220257Z
LAST-MODIFIED:20250515T193627Z
UID:10001345-1775894400-1775908800@visitfallschurch.com
SUMMARY:Falls Church Farmers Market
DESCRIPTION:Discover the Vibrant Falls Church Farmers Market \nEvery Saturday from 9:00 AM to 12:00 PM\, the heart of Falls Church comes alive with the sights\, sounds\, and flavors of the Falls Church Farmers Market—a year-round\, award-winning event beloved by locals and visitors alike. \nLocated in the City Hall parking lot at 300 Park Ave.\, Falls Church\, VA 22046\, the market features more than 50 local farmers and specialty vendors offering an incredible variety of fresh\, seasonal produce\, pasture-raised meats\, artisanal cheeses\, sustainable seafood\, baked goods\, crepes\, pies\, honey\, jams\, sauces\, flowers\, plants\, wine\, and much more. \nEnjoy live music\, seasonal events\, and the lively\, welcoming atmosphere as you browse unique handmade items and sample delicious local fare. Whether you’re shopping for your weekly groceries\, hunting for a special gift\, or simply enjoying a Saturday stroll\, the market offers something for everyone. \nFree weekend parking is available at the Kaiser Permanente garage\, just a short 2-minute walk from the market. The location is also Metro accessible from both the East and West Falls Church Metro stations\, and only minutes from Washington\, D.C. \nCome see why the Falls Church Farmers Market is considered one of the best in Northern Virginia—it’s more than a market; it’s a community tradition. \n\nSeason: Apr 5 – Dec 27 | Saturday Market\nOperating Hours: 8:00 AM – 12:00 PM\nSeason: Jan 5 – Mar 29 | Saturday Market\nOperating Hours: 9:00 AM – 12:00 PM\n\n  \n 
URL:https://visitfallschurch.com/event/falls-church-farmers-market-5-31/2026-04-11/
LOCATION:City Hall\, 300 Park Avenue\, Falls Church\, VA\, 22046\, United States
CATEGORIES:City Event,Community event,Farmers Market,Outdoor Event
ATTACH;FMTTYPE=image/png:https://visitfallschurch.com/wp-content/uploads/Falls-Church-Farmers-Market.png
ORGANIZER;CN="City of Falls Church Government":MAILTO:noreply@facebookmail.com
GEO:38.8857039;-77.17253
X-APPLE-STRUCTURED-LOCATION;VALUE=URI;X-ADDRESS=City Hall 300 Park Avenue Falls Church VA 22046 United States;X-APPLE-RADIUS=500;X-TITLE=300 Park Avenue:geo:-77.17253,38.8857039
END:VEVENT
BEGIN:VEVENT
DTSTART;TZID=America/New_York:20260411T100000
DTEND;TZID=America/New_York:20260411T100000
DTSTAMP:20260419T152542
CREATED:20260122T212327Z
LAST-MODIFIED:20260122T212358Z
UID:10001627-1775901600-1775901600@visitfallschurch.com
SUMMARY:Ice Cream Social at the Farmhouse    
DESCRIPTION:Ice Cream Social at the Farmhouse \nCherry Hill Farmhouse celebrates the start of its open house season with this delightful community gathering. Enjoy yard games\, horseshoe pits\, house-made ice cream\, and guided tours that offer a taste of 19th-century life on a historic farm. This free\, outdoor social combines heritage and neighborhood fellowship in a relaxed\, scenic setting. Learn how ice cream was made in the 1800s. \n\nDate: Saturday\, April 11\, 2026\nLocation: Cherry Hill Farmhouse\nCost: Free\, no registration
URL:https://visitfallschurch.com/event/ice-cream-social-2026/
LOCATION:Cherry Hill Farmhouse\, Park Avenue\, Falls Church\, VA\, 22046\, United States
CATEGORIES:Community event,Kids Event,Seasonal Event
ATTACH;FMTTYPE=image/webp:https://visitfallschurch.com/wp-content/uploads/Lil-City-Creamery.webp
ORGANIZER;CN="City of Falls Church Government":MAILTO:noreply@facebookmail.com
GEO:38.8865331;-77.1740164
X-APPLE-STRUCTURED-LOCATION;VALUE=URI;X-ADDRESS=Cherry Hill Farmhouse Park Avenue Falls Church VA 22046 United States;X-APPLE-RADIUS=500;X-TITLE=Park Avenue:geo:-77.1740164,38.8865331
END:VEVENT
BEGIN:VEVENT
DTSTART;TZID=America/New_York:20260411T100000
DTEND;TZID=America/New_York:20260412T120000
DTSTAMP:20260419T152542
CREATED:20260319T155238Z
LAST-MODIFIED:20260319T160222Z
UID:10002016-1775901600-1775995200@visitfallschurch.com
SUMMARY:City of Falls Church Spring Community Clean-Up
DESCRIPTION:Falls Church City Clean Up\nJoin us for a Spring Community Clean-Up on April 11 from 10 a.m. to 12 noon! Help keep The Little City beautiful and our waterways clean. Perfect for families\, groups\, and individuals who want to make a difference! Meet at the Falls Church Community Center (223 Little Falls St.) Be sure to wear clothes that can get dirty and closed-toe shoes. We’ll provide all the cleanup gear you need. Learn more about the Spring City Clean-Up Day. \n\nNo registration required.\nSaturday\, April 11\, from 10 a.m. to Noon\nMeet in front of the Community Center to sign in\, gather supplies\, and be assigned a location\nOutdoors (wear comfortable clothes that can get dirty)\nFor more information\, email Recycling@fallschurchva.gov or call 703-248-5466 (TTY 711)
URL:https://visitfallschurch.com/event/spring-clean-up-2026/
LOCATION:City of Falls Church Community Center\, 223 Little Falls St\, Falls Church\, VA\, 22046\, United States
CATEGORIES:Community event,Kids Event,Outdoor Event
ATTACH;FMTTYPE=image/png:https://visitfallschurch.com/wp-content/uploads/City-of-Falls-Church-Community-Clean-Up-Day.png
ORGANIZER;CN="City of Falls Church Government":MAILTO:noreply@facebookmail.com
GEO:38.8863027;-77.1717734
X-APPLE-STRUCTURED-LOCATION;VALUE=URI;X-ADDRESS=City of Falls Church Community Center 223 Little Falls St Falls Church VA 22046 United States;X-APPLE-RADIUS=500;X-TITLE=223 Little Falls St:geo:-77.1717734,38.8863027
END:VEVENT
END:VCALENDAR