BEGIN:VCALENDAR
VERSION:2.0
PRODID:-//Visit Falls Church - ECPv6.15.20//NONSGML v1.0//EN
CALSCALE:GREGORIAN
METHOD:PUBLISH
X-ORIGINAL-URL:https://visitfallschurch.com
X-WR-CALDESC:Events for Visit Falls Church
REFRESH-INTERVAL;VALUE=DURATION:PT1H
X-Robots-Tag:noindex
X-PUBLISHED-TTL:PT1H
BEGIN:VTIMEZONE
TZID:America/New_York
BEGIN:DAYLIGHT
TZOFFSETFROM:-0500
TZOFFSETTO:-0400
TZNAME:EDT
DTSTART:20250309T070000
END:DAYLIGHT
BEGIN:STANDARD
TZOFFSETFROM:-0400
TZOFFSETTO:-0500
TZNAME:EST
DTSTART:20251102T060000
END:STANDARD
BEGIN:DAYLIGHT
TZOFFSETFROM:-0500
TZOFFSETTO:-0400
TZNAME:EDT
DTSTART:20260308T070000
END:DAYLIGHT
BEGIN:STANDARD
TZOFFSETFROM:-0400
TZOFFSETTO:-0500
TZNAME:EST
DTSTART:20261101T060000
END:STANDARD
BEGIN:DAYLIGHT
TZOFFSETFROM:-0500
TZOFFSETTO:-0400
TZNAME:EDT
DTSTART:20270314T070000
END:DAYLIGHT
BEGIN:STANDARD
TZOFFSETFROM:-0400
TZOFFSETTO:-0500
TZNAME:EST
DTSTART:20271107T060000
END:STANDARD
END:VTIMEZONE
BEGIN:VEVENT
DTSTART;TZID=America/New_York:20260418T090000
DTEND;TZID=America/New_York:20260418T130000
DTSTAMP:20260419T120506
CREATED:20260409T162459Z
LAST-MODIFIED:20260409T162657Z
UID:10002551-1776502800-1776517200@visitfallschurch.com
SUMMARY:City of Falls Church Arts Day
DESCRIPTION:Falls Church Arts Day – Saturday\, April 18\nThe City of Falls Church Annual Arts Day is sponsored by the Arts and Humanities Council of Falls Church City and will take place on April 18\, 2026\, from 9 AM – 1 PM\, with a rain date of April 25. This year\, the Meridian High School IB Art students will be displaying their work for event customers.  The event takes place on the scenic grounds of the Cherry Hill Farmhouse\, next to City Hall. Visitors from across the region can enjoy not only the featured artwork\, but also Falls Church’s public art installations and live musical performances scheduled throughout the day. \nArts Day will coincide with the City’s popular Saturday Farmers Market and is expected to draw a large audience. Events like this not only provide a platform for artists to showcase their work but also foster community engagement and a deeper appreciation for the arts.  Please mark this special day on your calendar and attend the event.
URL:https://visitfallschurch.com/event/city-of-falls-church-arts-day/
LOCATION:City Hall\, 300 Park Avenue\, Falls Church\, VA\, 22046\, United States
CATEGORIES:Art Event,Community event
ATTACH;FMTTYPE=image/png:https://visitfallschurch.com/wp-content/uploads/City-of-Falls-Church-Arts-Day-2026.png
ORGANIZER;CN="City of Falls Church Government":MAILTO:noreply@facebookmail.com
GEO:38.8857039;-77.17253
X-APPLE-STRUCTURED-LOCATION;VALUE=URI;X-ADDRESS=City Hall 300 Park Avenue Falls Church VA 22046 United States;X-APPLE-RADIUS=500;X-TITLE=300 Park Avenue:geo:-77.17253,38.8857039
END:VEVENT
BEGIN:VEVENT
DTSTART;TZID=America/New_York:20260418T080000
DTEND;TZID=America/New_York:20260418T120000
DTSTAMP:20260419T120506
CREATED:20250505T220257Z
LAST-MODIFIED:20250515T193627Z
UID:10001346-1776499200-1776513600@visitfallschurch.com
SUMMARY:Falls Church Farmers Market
DESCRIPTION:Discover the Vibrant Falls Church Farmers Market \nEvery Saturday from 9:00 AM to 12:00 PM\, the heart of Falls Church comes alive with the sights\, sounds\, and flavors of the Falls Church Farmers Market—a year-round\, award-winning event beloved by locals and visitors alike. \nLocated in the City Hall parking lot at 300 Park Ave.\, Falls Church\, VA 22046\, the market features more than 50 local farmers and specialty vendors offering an incredible variety of fresh\, seasonal produce\, pasture-raised meats\, artisanal cheeses\, sustainable seafood\, baked goods\, crepes\, pies\, honey\, jams\, sauces\, flowers\, plants\, wine\, and much more. \nEnjoy live music\, seasonal events\, and the lively\, welcoming atmosphere as you browse unique handmade items and sample delicious local fare. Whether you’re shopping for your weekly groceries\, hunting for a special gift\, or simply enjoying a Saturday stroll\, the market offers something for everyone. \nFree weekend parking is available at the Kaiser Permanente garage\, just a short 2-minute walk from the market. The location is also Metro accessible from both the East and West Falls Church Metro stations\, and only minutes from Washington\, D.C. \nCome see why the Falls Church Farmers Market is considered one of the best in Northern Virginia—it’s more than a market; it’s a community tradition. \n\nSeason: Apr 5 – Dec 27 | Saturday Market\nOperating Hours: 8:00 AM – 12:00 PM\nSeason: Jan 5 – Mar 29 | Saturday Market\nOperating Hours: 9:00 AM – 12:00 PM\n\n  \n 
URL:https://visitfallschurch.com/event/falls-church-farmers-market-5-31/2026-04-18/
LOCATION:City Hall\, 300 Park Avenue\, Falls Church\, VA\, 22046\, United States
CATEGORIES:City Event,Community event,Farmers Market,Outdoor Event
ATTACH;FMTTYPE=image/png:https://visitfallschurch.com/wp-content/uploads/Falls-Church-Farmers-Market.png
ORGANIZER;CN="City of Falls Church Government":MAILTO:noreply@facebookmail.com
GEO:38.8857039;-77.17253
X-APPLE-STRUCTURED-LOCATION;VALUE=URI;X-ADDRESS=City Hall 300 Park Avenue Falls Church VA 22046 United States;X-APPLE-RADIUS=500;X-TITLE=300 Park Avenue:geo:-77.17253,38.8857039
END:VEVENT
BEGIN:VEVENT
DTSTART;TZID=America/New_York:20260411T100000
DTEND;TZID=America/New_York:20260412T120000
DTSTAMP:20260419T120506
CREATED:20260319T155238Z
LAST-MODIFIED:20260319T160222Z
UID:10002016-1775901600-1775995200@visitfallschurch.com
SUMMARY:City of Falls Church Spring Community Clean-Up
DESCRIPTION:Falls Church City Clean Up\nJoin us for a Spring Community Clean-Up on April 11 from 10 a.m. to 12 noon! Help keep The Little City beautiful and our waterways clean. Perfect for families\, groups\, and individuals who want to make a difference! Meet at the Falls Church Community Center (223 Little Falls St.) Be sure to wear clothes that can get dirty and closed-toe shoes. We’ll provide all the cleanup gear you need. Learn more about the Spring City Clean-Up Day. \n\nNo registration required.\nSaturday\, April 11\, from 10 a.m. to Noon\nMeet in front of the Community Center to sign in\, gather supplies\, and be assigned a location\nOutdoors (wear comfortable clothes that can get dirty)\nFor more information\, email Recycling@fallschurchva.gov or call 703-248-5466 (TTY 711)
URL:https://visitfallschurch.com/event/spring-clean-up-2026/
LOCATION:City of Falls Church Community Center\, 223 Little Falls St\, Falls Church\, VA\, 22046\, United States
CATEGORIES:Community event,Kids Event,Outdoor Event
ATTACH;FMTTYPE=image/png:https://visitfallschurch.com/wp-content/uploads/City-of-Falls-Church-Community-Clean-Up-Day.png
ORGANIZER;CN="City of Falls Church Government":MAILTO:noreply@facebookmail.com
GEO:38.8863027;-77.1717734
X-APPLE-STRUCTURED-LOCATION;VALUE=URI;X-ADDRESS=City of Falls Church Community Center 223 Little Falls St Falls Church VA 22046 United States;X-APPLE-RADIUS=500;X-TITLE=223 Little Falls St:geo:-77.1717734,38.8863027
END:VEVENT
BEGIN:VEVENT
DTSTART;TZID=America/New_York:20260411T100000
DTEND;TZID=America/New_York:20260411T100000
DTSTAMP:20260419T120506
CREATED:20260122T212327Z
LAST-MODIFIED:20260122T212358Z
UID:10001627-1775901600-1775901600@visitfallschurch.com
SUMMARY:Ice Cream Social at the Farmhouse    
DESCRIPTION:Ice Cream Social at the Farmhouse \nCherry Hill Farmhouse celebrates the start of its open house season with this delightful community gathering. Enjoy yard games\, horseshoe pits\, house-made ice cream\, and guided tours that offer a taste of 19th-century life on a historic farm. This free\, outdoor social combines heritage and neighborhood fellowship in a relaxed\, scenic setting. Learn how ice cream was made in the 1800s. \n\nDate: Saturday\, April 11\, 2026\nLocation: Cherry Hill Farmhouse\nCost: Free\, no registration
URL:https://visitfallschurch.com/event/ice-cream-social-2026/
LOCATION:Cherry Hill Farmhouse\, Park Avenue\, Falls Church\, VA\, 22046\, United States
CATEGORIES:Community event,Kids Event,Seasonal Event
ATTACH;FMTTYPE=image/webp:https://visitfallschurch.com/wp-content/uploads/Lil-City-Creamery.webp
ORGANIZER;CN="City of Falls Church Government":MAILTO:noreply@facebookmail.com
GEO:38.8865331;-77.1740164
X-APPLE-STRUCTURED-LOCATION;VALUE=URI;X-ADDRESS=Cherry Hill Farmhouse Park Avenue Falls Church VA 22046 United States;X-APPLE-RADIUS=500;X-TITLE=Park Avenue:geo:-77.1740164,38.8865331
END:VEVENT
BEGIN:VEVENT
DTSTART;TZID=America/New_York:20260404T090000
DTEND;TZID=America/New_York:20260404T120000
DTSTAMP:20260419T120506
CREATED:20260122T213339Z
LAST-MODIFIED:20260122T213339Z
UID:10001628-1775293200-1775304000@visitfallschurch.com
SUMMARY:City of Falls Church Egg Hunt
DESCRIPTION:City of Falls Church Egg Hunt \nCelebrate spring with the annual Egg Hunt\, a fun and festive event for children ages 1 to 11. Enjoy egg collecting\, games\, and a chance to meet and have a photo with Mr. and Mrs. Bunny in a safe\, family-friendly environment\, perfect for preschoolers and elementary-age kids. \nEgg Hunt takes place Saturday\, April 4\, 2026\, in the City of Falls Church\, Virginia. This community event offers a welcoming atmosphere for residents\, visitors\, and tourists looking for things to do in Northern Virginia. \n\nActivities begin at 9:15 am\nHunt begins promptly at 10 am\nDate: Saturday\, April\, 2026\nCost: Free\, no registration
URL:https://visitfallschurch.com/event/city-of-falls-church-egg-hunt/
LOCATION:Cherry Hill Park\, Park Avenue\, Falls Church\, Virginia\, 22046\, United States
CATEGORIES:Community event,Kids Event,Seasonal Event
ATTACH;FMTTYPE=image/png:https://visitfallschurch.com/wp-content/uploads/City-of-Falls-Church-Egg-Hunt-1.png
ORGANIZER;CN="City of Falls Church Government":MAILTO:noreply@facebookmail.com
GEO:38.8865331;-77.1740164
X-APPLE-STRUCTURED-LOCATION;VALUE=URI;X-ADDRESS=Cherry Hill Park Park Avenue Falls Church Virginia 22046 United States;X-APPLE-RADIUS=500;X-TITLE=Park Avenue:geo:-77.1740164,38.8865331
END:VEVENT
BEGIN:VEVENT
DTSTART;TZID=America/New_York:20260401T000000
DTEND;TZID=America/New_York:20260409T000000
DTSTAMP:20260419T120506
CREATED:20260323T203408Z
LAST-MODIFIED:20260323T203554Z
UID:10002021-1775001600-1775692800@visitfallschurch.com
SUMMARY:NOVA Nightsky Theater Presents: Anthropology by Lauren Gunderson
DESCRIPTION:NOVA Nightsky Theater Presents: Anthropology by Lauren Gunderson. When a grieving woman builds an AI version of her late sister\, she doesn’t expect the digital twin to start keeping secrets of her own. Anthropology is a gripping\, heartfelt thriller about technology\, loss\, and what it means to be human. \nPurchase Tickets for Anthropology by Lauren Gunderson \nShowtimes:\n\n4/16 7:30 pm\n4/17 7:30 pm\n4/18 1:00 pm\n4/19 7:00 pm\n4/23 7:30 pm (pay what you can night!)\n4/24 7:30 pm\n4/25 2:00 pm\n\nLocation\nFalls Church Presbyterian Church\, 225 E Broad St\, Falls Church\, VA 22046\, USA
URL:https://visitfallschurch.com/event/nova-nightsky-theater-presents-anthropology-by-lauren-gunderson/
LOCATION:Falls Church Presbyterian Church\, 225 E Broad St\, Falls Church\, VA\, 22046
CATEGORIES:Community event,Theatre Performance
ATTACH;FMTTYPE=image/png:https://visitfallschurch.com/wp-content/uploads/NNS-FC.png
ORGANIZER;CN="NOVA Nightsky Theater":MAILTO:novanightskytheater@gmail.com
GEO:38.8807825;-77.1676691
X-APPLE-STRUCTURED-LOCATION;VALUE=URI;X-ADDRESS=Falls Church Presbyterian Church 225 E Broad St Falls Church VA 22046;X-APPLE-RADIUS=500;X-TITLE=225 E Broad St:geo:-77.1676691,38.8807825
END:VEVENT
BEGIN:VEVENT
DTSTART;TZID=America/New_York:20260328T193000
DTEND;TZID=America/New_York:20260328T213000
DTSTAMP:20260419T120506
CREATED:20260323T205624Z
LAST-MODIFIED:20260323T205624Z
UID:10002024-1774726200-1774733400@visitfallschurch.com
SUMMARY:The McLean Symphony: Defining Moments
DESCRIPTION:Join Music Director Sebastian Grand and The McLean Symphony at our new venue\, Columbia Baptist Church in Falls Church\, for a concert made possible through a generous grant from the McLean Community Foundation. The program features winners of the Northern Virginia Music Teachers Association Concerto Competition performing with the orchestra: \n\nTheodore Kim – Piano Concerto No. 23 in A Major by Wolfgang Amadeus Mozart\nHiroki Matsui – Piano Concerto No. 3 by Ludwig van Beethoven\nMax Zhang – Piano Concerto in D Minor by Johannes Brahms\n\nThe orchestra will also perform the lively Overture to The Barber of Seville by Gioachino Rossini and conclude with Symphony No. 1 by Brahms. \nTickets are $25 regular admission\, $20 for seniors\, educators\, and college students\, and free for anyone 18 and under.
URL:https://visitfallschurch.com/event/the-mclean-symphony-defining-moments-2/
LOCATION:Columbia Baptist Church\, 103 W. Columbia St.\, Falls Church\, VA\, 22046
CATEGORIES:Community event,Music Event,Music Performance
ATTACH;FMTTYPE=image/png:https://visitfallschurch.com/wp-content/uploads/McLean-Symphony-logo.png
ORGANIZER;CN="Columbia Baptist Church":MAILTO:hello@columbia.church
GEO:38.8850863;-77.1675841
X-APPLE-STRUCTURED-LOCATION;VALUE=URI;X-ADDRESS=Columbia Baptist Church 103 W. Columbia St. Falls Church VA 22046;X-APPLE-RADIUS=500;X-TITLE=103 W. Columbia St.:geo:-77.1675841,38.8850863
END:VEVENT
BEGIN:VEVENT
DTSTART;TZID=America/New_York:20260321T200000
DTEND;TZID=America/New_York:20260321T220000
DTSTAMP:20260419T120506
CREATED:20260323T204805Z
LAST-MODIFIED:20260323T205902Z
UID:10002023-1774123200-1774130400@visitfallschurch.com
SUMMARY:LoveSong - A Tribute to The Cure
DESCRIPTION:Falls Church\, get ready for a hometown-style night out as Pandora’s Box – Aerosmith Tribute Band hits The State Theatre – VA with the swagger and grit fans love. If you’ve been searching for Pandora’s Box – Aerosmith Tribute Band Falls Church\, this is the show locals talk about. \nExpect faithful deep cuts and big singalong moments\, delivered with spot-on vocals\, ripping guitar leads\, and the kind of stage chemistry that feels like a front-row arena set. \nState Theatre – VA keeps it intimate\, loud in the best way\, and easy to reach for a hassle-free evening in the heart of Falls Church. \nMake plans now—grab your tickets and join the crowd for Pandora’s Box – Aerosmith Tribute Band State Theatre – VA on 3/26/2026 at 8:30 PM.
URL:https://visitfallschurch.com/event/lovesong-a-tribute-to-the-cure-3/
LOCATION:The State Theatre\, North Washington Street\, Falls Church\, VA\, 22046\, United States
CATEGORIES:Community event,Music Event,Music Performance
ATTACH;FMTTYPE=image/jpeg:https://visitfallschurch.com/wp-content/uploads/Pandoras-Box-Aerosmith-Tribute-Band.jpg
ORGANIZER;CN="The State Theatre":MAILTO:noreply@facebookmail.com
GEO:38.8829888;-77.1697705
X-APPLE-STRUCTURED-LOCATION;VALUE=URI;X-ADDRESS=The State Theatre North Washington Street Falls Church VA 22046 United States;X-APPLE-RADIUS=500;X-TITLE=North Washington Street:geo:-77.1697705,38.8829888
END:VEVENT
BEGIN:VEVENT
DTSTART;TZID=America/New_York:20260321T100000
DTEND;TZID=America/New_York:20260321T130000
DTSTAMP:20260419T120506
CREATED:20260309T141210Z
LAST-MODIFIED:20260309T141210Z
UID:10002007-1774087200-1774098000@visitfallschurch.com
SUMMARY:Spring Window Painting Festival
DESCRIPTION:Spring Window Painting Festival\nA two day experience taking place 10am-1pm on Saturday March 21 and Sunday March 22. The community is invited to paint festive\, family-friendly\, spring-themed (non-religious) designs on storefront and first-floor business windows on major thoroughfares in The City of Falls Church. Windows may be cleaned any time in mid-April\, but must be cleaned by April 19. \nSpring Window Painting is a volunteer-led project of local nonprofit Falls Church Arts. There is no cost to participate\, though we do appreciate and accept donations to defray the costs. Learn more and Register Here.
URL:https://visitfallschurch.com/event/spring-window-painting-2026/
LOCATION:Falls Church Arts\, 700-B W Broad St\, Falls Church\, VA\, 22046
CATEGORIES:Community event,Kids Event
ATTACH;FMTTYPE=image/png:https://visitfallschurch.com/wp-content/uploads/Spring-Window-Painting.png
ORGANIZER;CN="Falls Church Arts":MAILTO:info@fallschurcharts.org
GEO:38.8780307;-77.1645589
X-APPLE-STRUCTURED-LOCATION;VALUE=URI;X-ADDRESS=Falls Church Arts 700-B W Broad St Falls Church VA 22046;X-APPLE-RADIUS=500;X-TITLE=700-B W Broad St:geo:-77.1645589,38.8780307
END:VEVENT
END:VCALENDAR