BEGIN:VCALENDAR
VERSION:2.0
PRODID:-//Visit Falls Church - ECPv6.15.20//NONSGML v1.0//EN
CALSCALE:GREGORIAN
METHOD:PUBLISH
X-ORIGINAL-URL:https://visitfallschurch.com
X-WR-CALDESC:Events for Visit Falls Church
REFRESH-INTERVAL;VALUE=DURATION:PT1H
X-Robots-Tag:noindex
X-PUBLISHED-TTL:PT1H
BEGIN:VTIMEZONE
TZID:America/New_York
BEGIN:DAYLIGHT
TZOFFSETFROM:-0500
TZOFFSETTO:-0400
TZNAME:EDT
DTSTART:20250309T070000
END:DAYLIGHT
BEGIN:STANDARD
TZOFFSETFROM:-0400
TZOFFSETTO:-0500
TZNAME:EST
DTSTART:20251102T060000
END:STANDARD
BEGIN:DAYLIGHT
TZOFFSETFROM:-0500
TZOFFSETTO:-0400
TZNAME:EDT
DTSTART:20260308T070000
END:DAYLIGHT
BEGIN:STANDARD
TZOFFSETFROM:-0400
TZOFFSETTO:-0500
TZNAME:EST
DTSTART:20261101T060000
END:STANDARD
BEGIN:DAYLIGHT
TZOFFSETFROM:-0500
TZOFFSETTO:-0400
TZNAME:EDT
DTSTART:20270314T070000
END:DAYLIGHT
BEGIN:STANDARD
TZOFFSETFROM:-0400
TZOFFSETTO:-0500
TZNAME:EST
DTSTART:20271107T060000
END:STANDARD
END:VTIMEZONE
BEGIN:VEVENT
DTSTART;TZID=America/New_York:20260509T100000
DTEND;TZID=America/New_York:20260509T150000
DTSTAMP:20260419T152618
CREATED:20260312T213730Z
LAST-MODIFIED:20260312T215807Z
UID:10002011-1778320800-1778338800@visitfallschurch.com
SUMMARY:Falls Church Women's History Walk
DESCRIPTION:Falls Church Women’s History Walk\nCelebrate the stories of remarkable women who helped shape the City of Falls Church at the Falls Church Women’s History Walk. Held at Cherry Hill Park\, this self-guided community event features dozens of “Her Story” stations highlighting the accomplishments and contributions of women connected to the Little City. Visitors can stroll through the park\, explore inspiring exhibits\, and attend a special ceremony at the historic Cherry Hill Farmhouse honoring community leaders and Grand Marshals. \nThe Women’s History Walk offers a meaningful way to learn about local history while enjoying one of Falls Church’s most historic parks. Organized by The Falls Church Women’s History Group. \n\nDate: Saturday\, May 9\, 2026\nTime: Approximately 10:00 AM to 4:00 PM\nLocation: Cherry Hill Park\, 312 Park Ave\, Falls Church\, VA
URL:https://visitfallschurch.com/event/womens-history-walk/
LOCATION:Cherry Hill Park\, Park Avenue\, Falls Church\, Virginia\, 22046\, United States
CATEGORIES:Community event,History Event,Outdoor Event
ATTACH;FMTTYPE=image/png:https://visitfallschurch.com/wp-content/uploads/Womans-History-Walk.png?t=1776626778
ORGANIZER;CN="The Falls Church Women%E2%80%99s History Group":MAILTO:FallsChurchWomensHistory@gmail.com
GEO:38.8865331;-77.1740164
X-APPLE-STRUCTURED-LOCATION;VALUE=URI;X-ADDRESS=Cherry Hill Park Park Avenue Falls Church Virginia 22046 United States;X-APPLE-RADIUS=500;X-TITLE=Park Avenue:geo:-77.1740164,38.8865331
END:VEVENT
END:VCALENDAR